BEGIN:VCALENDAR
VERSION:2.0
PRODID:-//Windham Golf Course - ECPv6.15.18//NONSGML v1.0//EN
CALSCALE:GREGORIAN
METHOD:PUBLISH
X-ORIGINAL-URL:https://www.windhamgc.com
X-WR-CALDESC:Events for Windham Golf Course
REFRESH-INTERVAL;VALUE=DURATION:PT1H
X-Robots-Tag:noindex
X-PUBLISHED-TTL:PT1H
BEGIN:VTIMEZONE
TZID:America/New_York
BEGIN:DAYLIGHT
TZOFFSETFROM:-0500
TZOFFSETTO:-0400
TZNAME:EDT
DTSTART:20240310T070000
END:DAYLIGHT
BEGIN:STANDARD
TZOFFSETFROM:-0400
TZOFFSETTO:-0500
TZNAME:EST
DTSTART:20241103T060000
END:STANDARD
BEGIN:DAYLIGHT
TZOFFSETFROM:-0500
TZOFFSETTO:-0400
TZNAME:EDT
DTSTART:20250309T070000
END:DAYLIGHT
BEGIN:STANDARD
TZOFFSETFROM:-0400
TZOFFSETTO:-0500
TZNAME:EST
DTSTART:20251102T060000
END:STANDARD
BEGIN:DAYLIGHT
TZOFFSETFROM:-0500
TZOFFSETTO:-0400
TZNAME:EDT
DTSTART:20260308T070000
END:DAYLIGHT
BEGIN:STANDARD
TZOFFSETFROM:-0400
TZOFFSETTO:-0500
TZNAME:EST
DTSTART:20261101T060000
END:STANDARD
END:VTIMEZONE
BEGIN:VEVENT
DTSTART;TZID=America/New_York:20250801T180000
DTEND;TZID=America/New_York:20250801T200000
DTSTAMP:20260421T070922
CREATED:20250430T202130Z
LAST-MODIFIED:20250430T202130Z
UID:10000037-1754071200-1754078400@www.windhamgc.com
SUMMARY:Music Night!
DESCRIPTION:The Bruce John Genre Jam
URL:https://www.windhamgc.com/event-calendar/music-night-4/
END:VEVENT
BEGIN:VEVENT
DTSTART;TZID=America/New_York:20250804T080000
DTEND;TZID=America/New_York:20250804T170000
DTSTAMP:20260421T070922
CREATED:20250424T151426Z
LAST-MODIFIED:20250424T151426Z
UID:10000019-1754294400-1754326800@www.windhamgc.com
SUMMARY:Horizons Golf Tournament
DESCRIPTION:
URL:https://www.windhamgc.com/event-calendar/horizons-golf-tournament/
END:VEVENT
BEGIN:VEVENT
DTSTART;TZID=America/New_York:20250808T180000
DTEND;TZID=America/New_York:20250808T200000
DTSTAMP:20260421T070922
CREATED:20250430T202210Z
LAST-MODIFIED:20250430T202210Z
UID:10000038-1754676000-1754683200@www.windhamgc.com
SUMMARY:Music Night!
DESCRIPTION:BeBobaLouBob
URL:https://www.windhamgc.com/event-calendar/music-night-5/
END:VEVENT
BEGIN:VEVENT
DTSTART;TZID=America/New_York:20250809T073000
DTEND;TZID=America/New_York:20250809T170000
DTSTAMP:20260421T070922
CREATED:20250424T151459Z
LAST-MODIFIED:20250619T160213Z
UID:10000020-1754724600-1754758800@www.windhamgc.com
SUMMARY:Alphabet City Tournament
DESCRIPTION:
URL:https://www.windhamgc.com/event-calendar/passholders-alphabet-city-tournament/
LOCATION:The Windham Golf Course\, 184 Club Road\, North Windham\, CT\, 06256\, United States
END:VEVENT
BEGIN:VEVENT
DTSTART;TZID=America/New_York:20250815T180000
DTEND;TZID=America/New_York:20250815T200000
DTSTAMP:20260421T070922
CREATED:20250430T202241Z
LAST-MODIFIED:20250430T202241Z
UID:10000039-1755280800-1755288000@www.windhamgc.com
SUMMARY:Music Night!
DESCRIPTION:The Outriggers
URL:https://www.windhamgc.com/event-calendar/music-night-6/
END:VEVENT
BEGIN:VEVENT
DTSTART;TZID=America/New_York:20250816T100000
DTEND;TZID=America/New_York:20250816T170000
DTSTAMP:20260421T070922
CREATED:20250424T151620Z
LAST-MODIFIED:20250424T151620Z
UID:10000021-1755338400-1755363600@www.windhamgc.com
SUMMARY:Stebbins Memorial Tournament
DESCRIPTION:
URL:https://www.windhamgc.com/event-calendar/stebbins-memorial-tournament/
LOCATION:The Windham Golf Course\, 184 Club Road\, North Windham\, CT\, 06256\, United States
END:VEVENT
BEGIN:VEVENT
DTSTART;TZID=America/New_York:20250817T073000
DTEND;TZID=America/New_York:20250817T170000
DTSTAMP:20260421T070922
CREATED:20250424T152429Z
LAST-MODIFIED:20250619T160202Z
UID:10000022-1755415800-1755450000@www.windhamgc.com
SUMMARY:Stableford Tournament
DESCRIPTION:
URL:https://www.windhamgc.com/event-calendar/passholder-stableford-tournament/
END:VEVENT
BEGIN:VEVENT
DTSTART;TZID=America/New_York:20250822T180000
DTEND;TZID=America/New_York:20250822T200000
DTSTAMP:20260421T070922
CREATED:20250430T202358Z
LAST-MODIFIED:20250430T202358Z
UID:10000040-1755885600-1755892800@www.windhamgc.com
SUMMARY:Music Night!
DESCRIPTION:East Coast Jam
URL:https://www.windhamgc.com/event-calendar/music-night-7/
END:VEVENT
BEGIN:VEVENT
DTSTART;TZID=America/New_York:20250829T180000
DTEND;TZID=America/New_York:20250829T200000
DTSTAMP:20260421T070922
CREATED:20250430T202428Z
LAST-MODIFIED:20250430T202428Z
UID:10000041-1756490400-1756497600@www.windhamgc.com
SUMMARY:Music Night!
DESCRIPTION:The Outriggers
URL:https://www.windhamgc.com/event-calendar/music-night-8/
END:VEVENT
END:VCALENDAR