BEGIN:VCALENDAR
VERSION:2.0
PRODID:-//Windham Golf Course - ECPv6.15.18//NONSGML v1.0//EN
CALSCALE:GREGORIAN
METHOD:PUBLISH
X-ORIGINAL-URL:https://www.windhamgc.com
X-WR-CALDESC:Events for Windham Golf Course
REFRESH-INTERVAL;VALUE=DURATION:PT1H
X-Robots-Tag:noindex
X-PUBLISHED-TTL:PT1H
BEGIN:VTIMEZONE
TZID:America/New_York
BEGIN:DAYLIGHT
TZOFFSETFROM:-0500
TZOFFSETTO:-0400
TZNAME:EDT
DTSTART:20250309T070000
END:DAYLIGHT
BEGIN:STANDARD
TZOFFSETFROM:-0400
TZOFFSETTO:-0500
TZNAME:EST
DTSTART:20251102T060000
END:STANDARD
BEGIN:DAYLIGHT
TZOFFSETFROM:-0500
TZOFFSETTO:-0400
TZNAME:EDT
DTSTART:20260308T070000
END:DAYLIGHT
BEGIN:STANDARD
TZOFFSETFROM:-0400
TZOFFSETTO:-0500
TZNAME:EST
DTSTART:20261101T060000
END:STANDARD
BEGIN:DAYLIGHT
TZOFFSETFROM:-0500
TZOFFSETTO:-0400
TZNAME:EDT
DTSTART:20270314T070000
END:DAYLIGHT
BEGIN:STANDARD
TZOFFSETFROM:-0400
TZOFFSETTO:-0500
TZNAME:EST
DTSTART:20271107T060000
END:STANDARD
END:VTIMEZONE
BEGIN:VEVENT
DTSTART;TZID=America/New_York:20260725T070000
DTEND;TZID=America/New_York:20260726T170000
DTSTAMP:20260421T162134
CREATED:20260415T170349Z
LAST-MODIFIED:20260415T170349Z
UID:10000201-1784962800-1785085200@www.windhamgc.com
SUMMARY:Club Champions
DESCRIPTION:Club Champion \nOpen to all pass-holder levels – Five Divisions \n\nOpen Championship (black tees)\nSenior (55+) (white tees)\nSuper Senior (65+) (yellow tees)\nLadies (forward tees)\nNet (declare your tee)\n\n36 holes of medal play over both days \nGross only\, no handicaps (except Net division) \nPayout for 1st & 2nd place winner in each division \n7 AM first tee time
URL:https://www.windhamgc.com/event-calendar/club-champions/
END:VEVENT
BEGIN:VEVENT
DTSTART;TZID=America/New_York:20260809T070000
DTEND;TZID=America/New_York:20260809T170000
DTSTAMP:20260421T162134
CREATED:20260415T175926Z
LAST-MODIFIED:20260415T180031Z
UID:10000202-1786258800-1786294800@www.windhamgc.com
SUMMARY:Alphabet City
DESCRIPTION:Alphabet City \nSign Up individually \nBlind Draw ABC teams \n\nHoles 1-6 = (1) Best Ball\nHoles 7 – 12 = (2) Best Ball\nHoles 13 – 18 = (3) Best Ball\n\nGross / Net prizes \n7:00 AM tee times \nSIGN UP: Visit the Golf Shop or call 860-456-1971
URL:https://www.windhamgc.com/event-calendar/alphabet-city/
END:VEVENT
BEGIN:VEVENT
DTSTART;TZID=America/New_York:20260816T070000
DTEND;TZID=America/New_York:20260816T120000
DTSTAMP:20260421T162134
CREATED:20260415T180401Z
LAST-MODIFIED:20260415T180401Z
UID:10000203-1786863600-1786881600@www.windhamgc.com
SUMMARY:Team Stableford
DESCRIPTION:Team Stableford \nTwo person teams (pick your own partner) \n\nBogey = 1\nPar = 2\nBirdie = 4\nEagle = 8\n\nCombined point total of the partners \nGross / Net Prizes \n7:00 AM first tee times \nSIGN UP: Visit the Golf Shop or call 860-456-1971
URL:https://www.windhamgc.com/event-calendar/team-stableford/
END:VEVENT
BEGIN:VEVENT
DTSTART;TZID=America/New_York:20260907T070000
DTEND;TZID=America/New_York:20260907T120000
DTSTAMP:20260421T162134
CREATED:20260415T180636Z
LAST-MODIFIED:20260415T180636Z
UID:10000204-1788764400-1788782400@www.windhamgc.com
SUMMARY:The Big Switch
DESCRIPTION:Big Switch \nTwo person teams\, chapman format (pick your own partner) \nBoth partners tee off\, hit your partner’s drive for the 2nd shot\, choose the best ball for the 3rd shot and alternate into the hole \nGross / Net prizes \n100% Handicap \n7:00 AM first tee time \nSIGN UP: Visit the Golf Shop or call 860-456-1971 \n 
URL:https://www.windhamgc.com/event-calendar/the-big-switch/
END:VEVENT
BEGIN:VEVENT
DTSTART;TZID=America/New_York:20260920T073000
DTEND;TZID=America/New_York:20260920T120000
DTSTAMP:20260421T162134
CREATED:20260415T181009Z
LAST-MODIFIED:20260415T181009Z
UID:10000205-1789889400-1789905600@www.windhamgc.com
SUMMARY:The Tribute
DESCRIPTION:The Tribute \nTwo player 27 hole event played in a Ryder Cup inspired format \nTwo captains will be chosen by the tournament committee \nCaptains will select teams with the intention of most evenly paired matches possible \nTwosome from each teams playing against each other for full 27 holes \nFirst nine is played as a scramble (35% A Player / 15% B Player) \nSecond nine is best ball format \nThird nine is played as individual matches against the other twosome \n7:30 AM first tee time \nSIGN UP: Visit the Golf Shop of call 860-456-1971
URL:https://www.windhamgc.com/event-calendar/the-tribute/
END:VEVENT
BEGIN:VEVENT
DTSTART;TZID=America/New_York:20261018T080000
DTEND;TZID=America/New_York:20261018T130000
DTSTAMP:20260421T162134
CREATED:20260415T181247Z
LAST-MODIFIED:20260415T181435Z
UID:10000206-1792310400-1792328400@www.windhamgc.com
SUMMARY:Tombstone
DESCRIPTION:Tombstone \nIndividual Event \nA stroke play format where each player begins with a set number of strokes based on par plus their course handicap (ex. 16 HCP + Par 72 = 88 strokes) \nThe objective is to complete as many holes as possible before running out of strokes \nTombstone will be placed wherever the final allotted shot comes to rest \nAnyone with strokes “in hand” at the conclusion of 18 holes will tee off hole #1 until all strokes are used \n8:00 AM first tee time \nSIGN UP: Visit the Golf Shop or call 860-456-1971
URL:https://www.windhamgc.com/event-calendar/odd-even-tournament/
END:VEVENT
END:VCALENDAR