BEGIN:VCALENDAR
VERSION:2.0
PRODID:-//Windham Golf Course - ECPv6.15.18//NONSGML v1.0//EN
CALSCALE:GREGORIAN
METHOD:PUBLISH
X-WR-CALNAME:Windham Golf Course
X-ORIGINAL-URL:https://www.windhamgc.com
X-WR-CALDESC:Events for Windham Golf Course
REFRESH-INTERVAL;VALUE=DURATION:PT1H
X-Robots-Tag:noindex
X-PUBLISHED-TTL:PT1H
BEGIN:VTIMEZONE
TZID:America/New_York
BEGIN:DAYLIGHT
TZOFFSETFROM:-0500
TZOFFSETTO:-0400
TZNAME:EDT
DTSTART:20240310T070000
END:DAYLIGHT
BEGIN:STANDARD
TZOFFSETFROM:-0400
TZOFFSETTO:-0500
TZNAME:EST
DTSTART:20241103T060000
END:STANDARD
BEGIN:DAYLIGHT
TZOFFSETFROM:-0500
TZOFFSETTO:-0400
TZNAME:EDT
DTSTART:20250309T070000
END:DAYLIGHT
BEGIN:STANDARD
TZOFFSETFROM:-0400
TZOFFSETTO:-0500
TZNAME:EST
DTSTART:20251102T060000
END:STANDARD
BEGIN:DAYLIGHT
TZOFFSETFROM:-0500
TZOFFSETTO:-0400
TZNAME:EDT
DTSTART:20260308T070000
END:DAYLIGHT
BEGIN:STANDARD
TZOFFSETFROM:-0400
TZOFFSETTO:-0500
TZNAME:EST
DTSTART:20261101T060000
END:STANDARD
BEGIN:DAYLIGHT
TZOFFSETFROM:-0500
TZOFFSETTO:-0400
TZNAME:EDT
DTSTART:20270314T070000
END:DAYLIGHT
BEGIN:STANDARD
TZOFFSETFROM:-0400
TZOFFSETTO:-0500
TZNAME:EST
DTSTART:20271107T060000
END:STANDARD
END:VTIMEZONE
BEGIN:VEVENT
DTSTART;TZID=America/New_York:20250905T180000
DTEND;TZID=America/New_York:20250905T200000
DTSTAMP:20260421T160101
CREATED:20250430T202905Z
LAST-MODIFIED:20250430T202905Z
UID:10000042-1757095200-1757102400@www.windhamgc.com
SUMMARY:Music Night!
DESCRIPTION:BeBobaLouBob
URL:https://www.windhamgc.com/event-calendar/music-night-9/
END:VEVENT
BEGIN:VEVENT
DTSTART;TZID=America/New_York:20250906T083000
DTEND;TZID=America/New_York:20250906T123000
DTSTAMP:20260421T160101
CREATED:20250821T195013Z
LAST-MODIFIED:20250821T195331Z
UID:10000055-1757147400-1757161800@www.windhamgc.com
SUMMARY:St. Joseph's Polish Society Tournament
DESCRIPTION:
URL:https://www.windhamgc.com/event-calendar/st-josephs-polish-society-tournament/
END:VEVENT
BEGIN:VEVENT
DTSTART;TZID=America/New_York:20250906T130000
DTEND;TZID=America/New_York:20250906T140000
DTSTAMP:20260421T160101
CREATED:20250821T195215Z
LAST-MODIFIED:20250821T195215Z
UID:10000056-1757163600-1757167200@www.windhamgc.com
SUMMARY:B&L Golf Outing
DESCRIPTION:
URL:https://www.windhamgc.com/event-calendar/bl-golf-outing/
END:VEVENT
BEGIN:VEVENT
DTSTART;TZID=America/New_York:20250907T073000
DTEND;TZID=America/New_York:20250907T170000
DTSTAMP:20260421T160101
CREATED:20250424T160431Z
LAST-MODIFIED:20250822T172251Z
UID:10000023-1757230200-1757264400@www.windhamgc.com
SUMMARY:The Big Switch Tournament
DESCRIPTION:
URL:https://www.windhamgc.com/event-calendar/passholders-the-big-switch-tournament/
LOCATION:The Windham Golf Course\, 184 Club Road\, North Windham\, CT\, 06256\, United States
END:VEVENT
BEGIN:VEVENT
DTSTART;TZID=America/New_York:20250907T073000
DTEND;TZID=America/New_York:20250907T233000
DTSTAMP:20260421T160101
CREATED:20250821T195530Z
LAST-MODIFIED:20250821T195530Z
UID:10000057-1757230200-1757287800@www.windhamgc.com
SUMMARY:The Big Switch Tournament
DESCRIPTION:Two Person Team Chapman format – pick your own partner. 100% handicap. Both partners tee off\, hit your partner’s drive for the second shot\, and choose the best ball for the third shot and alternate into the hole. Tee times starting at 7:30 AM – sign up today in the Golf Shop!
URL:https://www.windhamgc.com/event-calendar/the-big-switch-tournament/
END:VEVENT
BEGIN:VEVENT
DTSTART;TZID=America/New_York:20250907T093000
DTEND;TZID=America/New_York:20250907T113000
DTSTAMP:20260421T160101
CREATED:20250821T195824Z
LAST-MODIFIED:20250821T195824Z
UID:10000060-1757237400-1757244600@www.windhamgc.com
SUMMARY:ECSU Co-Ed Business Golf Tournament
DESCRIPTION:
URL:https://www.windhamgc.com/event-calendar/ecsu-co-ed-business-golf-tournament/
END:VEVENT
BEGIN:VEVENT
DTSTART;TZID=America/New_York:20250908T080000
DTEND;TZID=America/New_York:20250909T170000
DTSTAMP:20260421T160101
CREATED:20250821T195621Z
LAST-MODIFIED:20250821T195621Z
UID:10000058-1757318400-1757437200@www.windhamgc.com
SUMMARY:Fall Aerification
DESCRIPTION:
URL:https://www.windhamgc.com/event-calendar/fall-aerification/
END:VEVENT
BEGIN:VEVENT
DTSTART;TZID=America/New_York:20250912T180000
DTEND;TZID=America/New_York:20250912T200000
DTSTAMP:20260421T160101
CREATED:20250430T202945Z
LAST-MODIFIED:20250430T202945Z
UID:10000043-1757700000-1757707200@www.windhamgc.com
SUMMARY:Music Night!
DESCRIPTION:Bruce John Genre Jam
URL:https://www.windhamgc.com/event-calendar/music-night-10/
END:VEVENT
BEGIN:VEVENT
DTSTART;TZID=America/New_York:20250913T080000
DTEND;TZID=America/New_York:20250913T170000
DTSTAMP:20260421T160101
CREATED:20250424T160510Z
LAST-MODIFIED:20250424T160510Z
UID:10000024-1757750400-1757782800@www.windhamgc.com
SUMMARY:ECSU Basketball Golf Tournament
DESCRIPTION:
URL:https://www.windhamgc.com/event-calendar/ecsu-basketball-golf-tournament/
LOCATION:The Windham Golf Course\, 184 Club Road\, North Windham\, CT\, 06256\, United States
END:VEVENT
BEGIN:VEVENT
DTSTART;TZID=America/New_York:20250913T100000
DTEND;TZID=America/New_York:20250913T140000
DTSTAMP:20260421T160101
CREATED:20250821T195732Z
LAST-MODIFIED:20250821T195732Z
UID:10000059-1757757600-1757772000@www.windhamgc.com
SUMMARY:ECSU Basketball Tournament
DESCRIPTION:
URL:https://www.windhamgc.com/event-calendar/ecsu-basketball-tournament/
END:VEVENT
BEGIN:VEVENT
DTSTART;TZID=America/New_York:20250919T090000
DTEND;TZID=America/New_York:20250919T130000
DTSTAMP:20260421T160101
CREATED:20250424T160536Z
LAST-MODIFIED:20250917T180413Z
UID:10000025-1758272400-1758286800@www.windhamgc.com
SUMMARY:Willi Wellness Tournament
DESCRIPTION:
URL:https://www.windhamgc.com/event-calendar/will-i-golf-tournament/
END:VEVENT
BEGIN:VEVENT
DTSTART;TZID=America/New_York:20250920T073000
DTEND;TZID=America/New_York:20250920T170000
DTSTAMP:20260421T160101
CREATED:20250424T160614Z
LAST-MODIFIED:20250619T160147Z
UID:10000026-1758353400-1758387600@www.windhamgc.com
SUMMARY:The Tribute Tournament
DESCRIPTION:
URL:https://www.windhamgc.com/event-calendar/passholders-the-tribute-tournament/
LOCATION:The Windham Golf Course\, 184 Club Road\, North Windham\, CT\, 06256\, United States
END:VEVENT
BEGIN:VEVENT
DTSTART;TZID=America/New_York:20250926T090000
DTEND;TZID=America/New_York:20250926T170000
DTSTAMP:20260421T160101
CREATED:20250424T160730Z
LAST-MODIFIED:20250424T160730Z
UID:10000028-1758877200-1758906000@www.windhamgc.com
SUMMARY:Autumn Classic Knights of Columbus Golf Tournament
DESCRIPTION:
URL:https://www.windhamgc.com/event-calendar/autumn-classic-knights-of-columbus-golf-tournament/
LOCATION:The Windham Golf Course\, 184 Club Road\, North Windham\, CT\, 06256\, United States
END:VEVENT
BEGIN:VEVENT
DTSTART;TZID=America/New_York:20251002T090000
DTEND;TZID=America/New_York:20251002T130000
DTSTAMP:20260421T160101
CREATED:20250917T180741Z
LAST-MODIFIED:20250917T180741Z
UID:10000062-1759395600-1759410000@www.windhamgc.com
SUMMARY:Dave Rand Memorial Tournament
DESCRIPTION:
URL:https://www.windhamgc.com/event-calendar/dave-rand-memorial-tournament/
END:VEVENT
BEGIN:VEVENT
DTSTART;TZID=America/New_York:20251005T073000
DTEND;TZID=America/New_York:20251005T170000
DTSTAMP:20260421T160101
CREATED:20250424T161228Z
LAST-MODIFIED:20250619T160139Z
UID:10000029-1759649400-1759683600@www.windhamgc.com
SUMMARY:ODD/EVEN Tournament
DESCRIPTION:
URL:https://www.windhamgc.com/event-calendar/passholders-odd-even-tournament/
LOCATION:The Windham Golf Course\, 184 Club Road\, North Windham\, CT\, 06256\, United States
END:VEVENT
BEGIN:VEVENT
DTSTART;TZID=America/New_York:20251011T110000
DTEND;TZID=America/New_York:20251011T130000
DTSTAMP:20260421T160101
CREATED:20250821T200000Z
LAST-MODIFIED:20250821T200025Z
UID:10000061-1760180400-1760187600@www.windhamgc.com
SUMMARY:ELKs End of the Year Tournament
DESCRIPTION:
URL:https://www.windhamgc.com/event-calendar/elks-end-of-the-year-tournament/
END:VEVENT
BEGIN:VEVENT
DTSTART;TZID=America/New_York:20251019T073000
DTEND;TZID=America/New_York:20251019T170000
DTSTAMP:20260421T160101
CREATED:20250424T161337Z
LAST-MODIFIED:20250619T160132Z
UID:10000031-1760859000-1760893200@www.windhamgc.com
SUMMARY:Closing Day ABCD
DESCRIPTION:
URL:https://www.windhamgc.com/event-calendar/passholders-closing-day-abcd/
LOCATION:The Windham Golf Course\, 184 Club Road\, North Windham\, CT\, 06256\, United States
END:VEVENT
BEGIN:VEVENT
DTSTART;TZID=America/New_York:20251025T100000
DTEND;TZID=America/New_York:20251025T120000
DTSTAMP:20260421T160101
CREATED:20251014T152723Z
LAST-MODIFIED:20251014T152723Z
UID:10000064-1761386400-1761393600@www.windhamgc.com
SUMMARY:Inclusive Recreational Golf Clinic
DESCRIPTION:Join us for a fun-filled morning on the course! Play a few holes side-by-side with a Special Olympics athlete and experience the joy of the game together. This is one of the most anticipated events of the year for the athletes – and your participation makes it possible! \n  \nSign up in the Golf Shop!
URL:https://www.windhamgc.com/event-calendar/inclusive-recreational-golf-clinic/
END:VEVENT
BEGIN:VEVENT
DTSTART;TZID=America/New_York:20251025T110000
DTEND;TZID=America/New_York:20251025T140000
DTSTAMP:20260421T160101
CREATED:20251014T152259Z
LAST-MODIFIED:20251014T154650Z
UID:10000063-1761390000-1761400800@www.windhamgc.com
SUMMARY:Putt Out Breast Cancer
DESCRIPTION:Join us to help raise money for Gina’s Friends\, a Windham Hospital Organization\, dedicated to supporting women who cannot afford to obtain life-saving tests during their time of need. \n50 foot putt – $10 per entry \nWIN $500 if you sink it! \nClosest to Pin wins a FREE PUTTER\, $100 WGC gift card\, WGC Swag Bag
URL:https://www.windhamgc.com/event-calendar/put-out-breast-cancer/
END:VEVENT
BEGIN:VEVENT
DTSTART;TZID=America/New_York:20251026T090000
DTEND;TZID=America/New_York:20251026T170000
DTSTAMP:20260421T160101
CREATED:20250424T161412Z
LAST-MODIFIED:20250619T160125Z
UID:10000032-1761469200-1761498000@www.windhamgc.com
SUMMARY:Greens Keeper's Revenge
DESCRIPTION:
URL:https://www.windhamgc.com/event-calendar/passholder-greens-keepers-revenge/
END:VEVENT
BEGIN:VEVENT
DTSTART;TZID=America/New_York:20251101T100000
DTEND;TZID=America/New_York:20251101T170000
DTSTAMP:20260421T160101
CREATED:20250424T161517Z
LAST-MODIFIED:20250619T160117Z
UID:10000033-1761991200-1762016400@www.windhamgc.com
SUMMARY:Polish Open
DESCRIPTION:
URL:https://www.windhamgc.com/event-calendar/passholder-polish-open/
END:VEVENT
BEGIN:VEVENT
DTSTART;TZID=America/New_York:20251107T180000
DTEND;TZID=America/New_York:20251107T200000
DTSTAMP:20260421T160101
CREATED:20251028T150455Z
LAST-MODIFIED:20251028T150455Z
UID:10000065-1762538400-1762545600@www.windhamgc.com
SUMMARY:Prime Rib Dinner
DESCRIPTION:Join us for our Autumn Prime Rib Dinner! $40 per plate for prime rib and $35 for an other entree. Entertainment by Daisha Scaplen Prime Rib Menu \n  \nReservations Required – Call 860-456-4211
URL:https://www.windhamgc.com/event-calendar/prime-rib-dinner/
END:VEVENT
BEGIN:VEVENT
DTSTART;TZID=America/New_York:20251112T180000
DTEND;TZID=America/New_York:20251112T200000
DTSTAMP:20260421T160101
CREATED:20251028T132435Z
LAST-MODIFIED:20251028T132435Z
UID:10000066-1762970400-1762977600@www.windhamgc.com
SUMMARY:Wine Tasting Night
DESCRIPTION:Join us for a wine tasting night! Enjoy a specialized menu paired with wines chosen to fit each course. Check out the menu!  Wine Tasting Menu
URL:https://www.windhamgc.com/event-calendar/wine-tasting-night/
END:VEVENT
BEGIN:VEVENT
DTSTART;VALUE=DATE:20260415
DTEND;VALUE=DATE:20260416
DTSTAMP:20260421T160101
CREATED:20260415T161822Z
LAST-MODIFIED:20260415T161822Z
UID:10000194-1776211200-1776297599@www.windhamgc.com
SUMMARY:First Open Tournament
DESCRIPTION:First Open \nTwo of Best Ball of the four (Net 100%) \nSign up your own foursomes & play anytime – each foursome selects their own tee time. \nSign up in the Golf Shop or call 860-456-1971 \n 
URL:https://www.windhamgc.com/event-calendar/first-open-tournament/
END:VEVENT
BEGIN:VEVENT
DTSTART;TZID=America/New_York:20260426T080000
DTEND;TZID=America/New_York:20260426T170000
DTSTAMP:20260421T160101
CREATED:20260415T162250Z
LAST-MODIFIED:20260415T162811Z
UID:10000195-1777190400-1777222800@www.windhamgc.com
SUMMARY:Opening Day ABCD Tournament
DESCRIPTION:Opening Day ABCD \nSign up individually (four person teams selected by the Golf Shop) \nFormat will be a handicapped scramble: A(25%)\, B (20%)\, C (15%)\, D(10%) \n7:00 AM First Tee Time \nSIGN UP: Visit Golf Shop or call 860-456-1971
URL:https://www.windhamgc.com/event-calendar/opening-day-abcd-tournament/
END:VEVENT
BEGIN:VEVENT
DTSTART;TZID=America/New_York:20260501T080000
DTEND;TZID=America/New_York:20260501T170000
DTSTAMP:20260421T160101
CREATED:20260415T163334Z
LAST-MODIFIED:20260415T163334Z
UID:10000197-1777622400-1777654800@www.windhamgc.com
SUMMARY:Windham Cup
DESCRIPTION:Windham Cup \nSTARTS May 1st: \nAll teams play qualifying round one time by June 1st – must declare prior to play \n\n1st round: Completed by July 1st\n2nd round: Completed by August 1st\n3rd round: Completed by September 1st\nFinals: Completed by October 1st\n\n$60 buy in per team ($30 per player) \n2 person teams – you can pick your own partner or be matched up \nNet Best-ball season-long match play event at 100% Handicap \nThe lowest 15 teams plus last years champion will qualify for the Match Play Bracket. Seeding will be determined by low net team scores. All ties will result tin matching of cards for seeding/qualifying. Card match will be off #1 handicap hole on Front 9 and proceed on Front 9 until a winner is determined. \nSign Up: Visit Golf Shop or call 860-456-1971
URL:https://www.windhamgc.com/event-calendar/windham-cup/
END:VEVENT
BEGIN:VEVENT
DTSTART;TZID=America/New_York:20260510T070000
DTEND;TZID=America/New_York:20260510T120000
DTSTAMP:20260421T160101
CREATED:20260415T162636Z
LAST-MODIFIED:20260415T162847Z
UID:10000196-1778396400-1778414400@www.windhamgc.com
SUMMARY:Alternate Shot Tournament
DESCRIPTION:Alternate Shot \nSign-up in teams of two (pick your own teams) \nAlternate shot event – HCP is 50% (average) of combined team handicaps \nOne player tees off on the ODD holes and the other on the EVEN holes – team can decide who does what \n7 AM first Tee Time \n  \nSIGN UP: Visit the Golf Shop of call 860-456-1971
URL:https://www.windhamgc.com/event-calendar/alternate-shot-tournament/
END:VEVENT
BEGIN:VEVENT
DTSTART;TZID=America/New_York:20260510T100000
DTEND;TZID=America/New_York:20260510T140000
DTSTAMP:20260421T160101
CREATED:20260416T180640Z
LAST-MODIFIED:20260416T180640Z
UID:10000207-1778407200-1778421600@www.windhamgc.com
SUMMARY:Mother's Day Brunch
DESCRIPTION:Mother’s Day Brunch
URL:https://www.windhamgc.com/event-calendar/mothers-day-brunch/
END:VEVENT
BEGIN:VEVENT
DTSTART;TZID=America/New_York:20260515T100000
DTEND;TZID=America/New_York:20260515T150000
DTSTAMP:20260421T160101
CREATED:20260416T181003Z
LAST-MODIFIED:20260416T181003Z
UID:10000208-1778839200-1778857200@www.windhamgc.com
SUMMARY:Connecticut Elk's Tournament
DESCRIPTION:
URL:https://www.windhamgc.com/event-calendar/connecticut-elks-tournament/
END:VEVENT
BEGIN:VEVENT
DTSTART;TZID=America/New_York:20260517T100000
DTEND;TZID=America/New_York:20260517T170000
DTSTAMP:20260421T160101
CREATED:20260416T181205Z
LAST-MODIFIED:20260416T181205Z
UID:10000209-1779012000-1779037200@www.windhamgc.com
SUMMARY:District Little League Tournament
DESCRIPTION:Craig McMahon – littleleagued11@outlook.com
URL:https://www.windhamgc.com/event-calendar/district-little-league-tournament/
END:VEVENT
END:VCALENDAR